BEGIN:VCALENDAR
VERSION:2.0
PRODID:-//Compagnie Théârt - ECPv6.6.4//NONSGML v1.0//EN
CALSCALE:GREGORIAN
METHOD:PUBLISH
X-ORIGINAL-URL:http://www.theart-co.com
X-WR-CALDESC:évènements pour Compagnie Théârt
REFRESH-INTERVAL;VALUE=DURATION:PT1H
X-Robots-Tag:noindex
X-PUBLISHED-TTL:PT1H
BEGIN:VTIMEZONE
TZID:Europe/Paris
BEGIN:DAYLIGHT
TZOFFSETFROM:+0100
TZOFFSETTO:+0200
TZNAME:CEST
DTSTART:20260329T010000
END:DAYLIGHT
BEGIN:STANDARD
TZOFFSETFROM:+0200
TZOFFSETTO:+0100
TZNAME:CET
DTSTART:20261025T010000
END:STANDARD
END:VTIMEZONE
BEGIN:VEVENT
DTSTART;TZID=Europe/Paris:20260920T170000
DTEND;TZID=Europe/Paris:20260920T180000
DTSTAMP:20260420T212906
CREATED:20260320T130116Z
LAST-MODIFIED:20260320T130117Z
UID:1026-1789923600-1789927200@www.theart-co.com
SUMMARY:Surprises Baroques à Combloux (74)
DESCRIPTION:
URL:http://www.theart-co.com/evenement/surprises-baroques-a-combloux-74-2/
ATTACH;FMTTYPE=image/jpeg:http://www.theart-co.com/wp-content/uploads/2026/03/Surprises-Baroques-1.jpg
END:VEVENT
END:VCALENDAR