BEGIN:VCALENDAR
VERSION:2.0
PRODID:-//Compagnie Théârt - ECPv6.6.4//NONSGML v1.0//EN
CALSCALE:GREGORIAN
METHOD:PUBLISH
X-ORIGINAL-URL:http://www.theart-co.com
X-WR-CALDESC:évènements pour Compagnie Théârt
REFRESH-INTERVAL;VALUE=DURATION:PT1H
X-Robots-Tag:noindex
X-PUBLISHED-TTL:PT1H
BEGIN:VTIMEZONE
TZID:Europe/Paris
BEGIN:DAYLIGHT
TZOFFSETFROM:+0100
TZOFFSETTO:+0200
TZNAME:CEST
DTSTART:20250330T010000
END:DAYLIGHT
BEGIN:STANDARD
TZOFFSETFROM:+0200
TZOFFSETTO:+0100
TZNAME:CET
DTSTART:20251026T010000
END:STANDARD
END:VTIMEZONE
BEGIN:VEVENT
DTSTART;TZID=Europe/Paris:20251007T140000
DTEND;TZID=Europe/Paris:20251007T160000
DTSTAMP:20260421T013417
CREATED:20250731T143740Z
LAST-MODIFIED:20250731T150819Z
UID:727-1759845600-1759852800@www.theart-co.com
SUMMARY:Théâtre Interactif - Santé mentale des adolescents
DESCRIPTION:Des saynètes pour mieux comprendre.
URL:http://www.theart-co.com/evenement/theatre-interactif-sante-mentale-des-adolescents/
ATTACH;FMTTYPE=image/jpeg:http://www.theart-co.com/wp-content/uploads/2024/12/TF-addictions2.jpg
END:VEVENT
BEGIN:VEVENT
DTSTART;TZID=Europe/Paris:20251014T180000
DTEND;TZID=Europe/Paris:20251014T203000
DTSTAMP:20260421T013417
CREATED:20250731T155429Z
LAST-MODIFIED:20251010T074858Z
UID:754-1760464800-1760473800@www.theart-co.com
SUMMARY:Théâtre Interactif - Motivation et démotivation - nouveau - à Saint Martin de Belleville (73)
DESCRIPTION:Des saynètes pour mieux comprendre. \n\n\n\nOuvert au public.
URL:http://www.theart-co.com/evenement/theatre-interactif-motivation-et-demotivation-nouveau-a-saint-martin-de-belleville-73/
LOCATION:Salle des fêtes de Saint-Martin-de-Belleville\, 127 Rue Georges Cumin\,\, Les Belleville\, 73440
ATTACH;FMTTYPE=image/jpeg:http://www.theart-co.com/wp-content/uploads/2024/12/003-TF-vivre-ensemble-Belley2-291124.jpg
END:VEVENT
END:VCALENDAR