BEGIN:VCALENDAR
VERSION:2.0
PRODID:-//Compagnie Théârt - ECPv6.6.4//NONSGML v1.0//EN
CALSCALE:GREGORIAN
METHOD:PUBLISH
X-ORIGINAL-URL:http://www.theart-co.com
X-WR-CALDESC:évènements pour Compagnie Théârt
REFRESH-INTERVAL;VALUE=DURATION:PT1H
X-Robots-Tag:noindex
X-PUBLISHED-TTL:PT1H
BEGIN:VTIMEZONE
TZID:Europe/Paris
BEGIN:DAYLIGHT
TZOFFSETFROM:+0100
TZOFFSETTO:+0200
TZNAME:CEST
DTSTART:20260329T010000
END:DAYLIGHT
BEGIN:STANDARD
TZOFFSETFROM:+0200
TZOFFSETTO:+0100
TZNAME:CET
DTSTART:20261025T010000
END:STANDARD
END:VTIMEZONE
BEGIN:VEVENT
DTSTART;TZID=Europe/Paris:20260511T080000
DTEND;TZID=Europe/Paris:20260511T170000
DTSTAMP:20260420T160916
CREATED:20260316T144329Z
LAST-MODIFIED:20260318T203247Z
UID:971-1778486400-1778518800@www.theart-co.com
SUMMARY:C 'est pas juste ! au collège de Mandeure (25)
DESCRIPTION:Spectacle joué au collège Jean-Paul Guyot de Mandeure
URL:http://www.theart-co.com/evenement/c-est-pas-juste-au-college-de-mandeure-25/
ATTACH;FMTTYPE=image/jpeg:http://www.theart-co.com/wp-content/uploads/2024/12/Cpasjuste.jpg
END:VEVENT
END:VCALENDAR