BEGIN:VCALENDAR
VERSION:2.0
PRODID:-//Compagnie Théârt - ECPv6.6.4//NONSGML v1.0//EN
CALSCALE:GREGORIAN
METHOD:PUBLISH
X-ORIGINAL-URL:http://www.theart-co.com
X-WR-CALDESC:évènements pour Compagnie Théârt
REFRESH-INTERVAL;VALUE=DURATION:PT1H
X-Robots-Tag:noindex
X-PUBLISHED-TTL:PT1H
BEGIN:VTIMEZONE
TZID:Europe/Paris
BEGIN:DAYLIGHT
TZOFFSETFROM:+0100
TZOFFSETTO:+0200
TZNAME:CEST
DTSTART:20260329T010000
END:DAYLIGHT
BEGIN:STANDARD
TZOFFSETFROM:+0200
TZOFFSETTO:+0100
TZNAME:CET
DTSTART:20261025T010000
END:STANDARD
END:VTIMEZONE
BEGIN:VEVENT
DTSTART;TZID=Europe/Paris:20260423T200000
DTEND;TZID=Europe/Paris:20260423T213000
DTSTAMP:20260420T124409
CREATED:20260318T195941Z
LAST-MODIFIED:20260318T212739Z
UID:980-1776974400-1776979800@www.theart-co.com
SUMMARY:Restitution de la série A force de vivre ensemble \, Valserhône
DESCRIPTION:Cette soirée permettra de jouer en live les épisodes de la série  » Sans écran \, c’est plus marrant! «  \n\n\n\n Deux groupes ont travaillé sur cette thématique : un groupe Famille ( vacances de février 26 ) et une classe du collège St Exupéry (avril 26 ). Ces travaux ont été pensés pour la semaine  » Sans écran\, c’est plus marrant! » afin de sensibiliser à ce sujet de société\, en partenariat avec la ville Valserhône.
URL:http://www.theart-co.com/evenement/restitution-de-la-serie-a-force-de-vivre-ensemble-valserhone/
ATTACH;FMTTYPE=image/jpeg:http://www.theart-co.com/wp-content/uploads/2026/03/Serie-vivante.jpg
END:VEVENT
END:VCALENDAR