BEGIN:VCALENDAR
VERSION:2.0
PRODID:-//Compagnie Théârt - ECPv6.6.4//NONSGML v1.0//EN
CALSCALE:GREGORIAN
METHOD:PUBLISH
X-WR-CALNAME:Compagnie Théârt
X-ORIGINAL-URL:http://www.theart-co.com
X-WR-CALDESC:évènements pour Compagnie Théârt
REFRESH-INTERVAL;VALUE=DURATION:PT1H
X-Robots-Tag:noindex
X-PUBLISHED-TTL:PT1H
BEGIN:VTIMEZONE
TZID:Europe/Paris
BEGIN:DAYLIGHT
TZOFFSETFROM:+0100
TZOFFSETTO:+0200
TZNAME:CEST
DTSTART:20260329T010000
END:DAYLIGHT
BEGIN:STANDARD
TZOFFSETFROM:+0200
TZOFFSETTO:+0100
TZNAME:CET
DTSTART:20261025T010000
END:STANDARD
END:VTIMEZONE
BEGIN:VEVENT
DTSTART;TZID=Europe/Paris:20260331T103000
DTEND;TZID=Europe/Paris:20260331T113000
DTSTAMP:20260420T142415
CREATED:20260318T194947Z
LAST-MODIFIED:20260318T212929Z
UID:976-1774953000-1774956600@www.theart-co.com
SUMMARY:Restitution de la Série A force de vivre ensemble \, Belley
DESCRIPTION:Deux classes ont travaillé sur le format série \, une classe de 3ème sur le thème du Patrimoine et une autre classe de 2nd Sport sur le thème des Filles dans le sport. \n\n\n\nCette restitution permettra de rejouer les épisodes de la série en live et de partager \, voir le travail des deux classes.
URL:http://www.theart-co.com/evenement/restitution-de-la-serie-a-force-de-vivre-ensemble-belley/
ATTACH;FMTTYPE=image/jpeg:http://www.theart-co.com/wp-content/uploads/2026/03/Serie-vivante.jpg
END:VEVENT
END:VCALENDAR