BEGIN:VCALENDAR
VERSION:2.0
PRODID:-//Compagnie Théârt - ECPv6.6.4//NONSGML v1.0//EN
CALSCALE:GREGORIAN
METHOD:PUBLISH
X-WR-CALNAME:Compagnie Théârt
X-ORIGINAL-URL:http://www.theart-co.com
X-WR-CALDESC:évènements pour Compagnie Théârt
REFRESH-INTERVAL;VALUE=DURATION:PT1H
X-Robots-Tag:noindex
X-PUBLISHED-TTL:PT1H
BEGIN:VTIMEZONE
TZID:Europe/Paris
BEGIN:DAYLIGHT
TZOFFSETFROM:+0100
TZOFFSETTO:+0200
TZNAME:CEST
DTSTART:20260329T010000
END:DAYLIGHT
BEGIN:STANDARD
TZOFFSETFROM:+0200
TZOFFSETTO:+0100
TZNAME:CET
DTSTART:20261025T010000
END:STANDARD
END:VTIMEZONE
BEGIN:VEVENT
DTSTART;TZID=Europe/Paris:20260126T100000
DTEND;TZID=Europe/Paris:20260126T133000
DTSTAMP:20260420T194342
CREATED:20251105T160725Z
LAST-MODIFIED:20251113T152625Z
UID:833-1769421600-1769434200@www.theart-co.com
SUMMARY:Théâtre interactif
DESCRIPTION:Harcèlement au collège international Ferney-Voltaire 01
URL:http://www.theart-co.com/evenement/theatre-interactif/
ATTACH;FMTTYPE=image/jpeg:http://www.theart-co.com/wp-content/uploads/2024/12/TF-Harcelement2.jpg
END:VEVENT
END:VCALENDAR