BEGIN:VCALENDAR
VERSION:2.0
PRODID:-//Compagnie Théârt - ECPv6.6.4//NONSGML v1.0//EN
CALSCALE:GREGORIAN
METHOD:PUBLISH
X-ORIGINAL-URL:http://www.theart-co.com
X-WR-CALDESC:évènements pour Compagnie Théârt
REFRESH-INTERVAL;VALUE=DURATION:PT1H
X-Robots-Tag:noindex
X-PUBLISHED-TTL:PT1H
BEGIN:VTIMEZONE
TZID:Europe/Paris
BEGIN:DAYLIGHT
TZOFFSETFROM:+0100
TZOFFSETTO:+0200
TZNAME:CEST
DTSTART:20250330T010000
END:DAYLIGHT
BEGIN:STANDARD
TZOFFSETFROM:+0200
TZOFFSETTO:+0100
TZNAME:CET
DTSTART:20251026T010000
END:STANDARD
END:VTIMEZONE
BEGIN:VEVENT
DTSTART;TZID=Europe/Paris:20251129T200000
DTEND;TZID=Europe/Paris:20251129T213000
DTSTAMP:20260421T013315
CREATED:20251105T170758Z
LAST-MODIFIED:20251118T161632Z
UID:839-1764446400-1764451800@www.theart-co.com
SUMMARY:Un accordéon pour deux
DESCRIPTION:Spectacle à Sillingy (74)
URL:http://www.theart-co.com/evenement/un-accordeon-pour-deux/
ATTACH;FMTTYPE=image/jpeg:http://www.theart-co.com/wp-content/uploads/2025/11/un-accordeon-pour-deux.jpg
END:VEVENT
END:VCALENDAR