BEGIN:VCALENDAR
VERSION:2.0
PRODID:-//Compagnie Théârt - ECPv6.6.4//NONSGML v1.0//EN
CALSCALE:GREGORIAN
METHOD:PUBLISH
X-WR-CALNAME:Compagnie Théârt
X-ORIGINAL-URL:http://www.theart-co.com
X-WR-CALDESC:évènements pour Compagnie Théârt
REFRESH-INTERVAL;VALUE=DURATION:PT1H
X-Robots-Tag:noindex
X-PUBLISHED-TTL:PT1H
BEGIN:VTIMEZONE
TZID:Europe/Paris
BEGIN:DAYLIGHT
TZOFFSETFROM:+0100
TZOFFSETTO:+0200
TZNAME:CEST
DTSTART:20250330T010000
END:DAYLIGHT
BEGIN:STANDARD
TZOFFSETFROM:+0200
TZOFFSETTO:+0100
TZNAME:CET
DTSTART:20251026T010000
END:STANDARD
END:VTIMEZONE
BEGIN:VEVENT
DTSTART;TZID=Europe/Paris:20250717T170000
DTEND;TZID=Europe/Paris:20250920T193000
DTSTAMP:20260421T070036
CREATED:20250701T165609Z
LAST-MODIFIED:20250801T095315Z
UID:699-1752771600-1758396600@www.theart-co.com
SUMMARY:Tournée Barock'n'Roll
DESCRIPTION:jeudi 17 juillet à Passy (74)\n\n\n\n\n\nsamedi 2 août à Séez  (73)\n\n\n\n\n\ndimanche 3 août à Saint-Foy (73)\n\n\n\n\n\nmardi 5 août à Saint Nicolas de Véroce (74)\n\n\n\n\n\ndimanche 10 août à Sardière (73)\n\n\n\n\n\nmardi 12 et jeudi 14 août à Saint Nicolas la Chapelle (73)\n\n\n\n\n\nsamedi 30 août à Ugine (73)\n\n\n\n\n\nsamedi 20 septembre à Saint Nicolas de Véroce (74)
URL:http://www.theart-co.com/evenement/la-tournee-barocknroll/
ATTACH;FMTTYPE=image/jpeg:http://www.theart-co.com/wp-content/uploads/2025/07/002-BarockNroll_sallanches2022.jpg
END:VEVENT
END:VCALENDAR